BEGIN:VCALENDAR
VERSION:2.0
PRODID:-//Golfclub Repetal Südsauerland e.V. - ECPv6.15.20//NONSGML v1.0//EN
CALSCALE:GREGORIAN
METHOD:PUBLISH
X-ORIGINAL-URL:https://golfclub-repetal.de
X-WR-CALDESC:Veranstaltungen für Golfclub Repetal Südsauerland e.V.
REFRESH-INTERVAL;VALUE=DURATION:PT1H
X-Robots-Tag:noindex
X-PUBLISHED-TTL:PT1H
BEGIN:VTIMEZONE
TZID:Europe/Berlin
BEGIN:DAYLIGHT
TZOFFSETFROM:+0100
TZOFFSETTO:+0200
TZNAME:CEST
DTSTART:20250330T010000
END:DAYLIGHT
BEGIN:STANDARD
TZOFFSETFROM:+0200
TZOFFSETTO:+0100
TZNAME:CET
DTSTART:20251026T010000
END:STANDARD
BEGIN:DAYLIGHT
TZOFFSETFROM:+0100
TZOFFSETTO:+0200
TZNAME:CEST
DTSTART:20260329T010000
END:DAYLIGHT
BEGIN:STANDARD
TZOFFSETFROM:+0200
TZOFFSETTO:+0100
TZNAME:CET
DTSTART:20261025T010000
END:STANDARD
BEGIN:DAYLIGHT
TZOFFSETFROM:+0100
TZOFFSETTO:+0200
TZNAME:CEST
DTSTART:20270328T010000
END:DAYLIGHT
BEGIN:STANDARD
TZOFFSETFROM:+0200
TZOFFSETTO:+0100
TZNAME:CET
DTSTART:20271031T010000
END:STANDARD
END:VTIMEZONE
BEGIN:VEVENT
DTSTART;TZID=Europe/Berlin:20260905T070000
DTEND;TZID=Europe/Berlin:20260905T170000
DTSTAMP:20260419T153126
CREATED:20260412T155527Z
LAST-MODIFIED:20260412T155621Z
UID:20018-1788591600-1788627600@golfclub-repetal.de
SUMMARY:36 Loch-Challenge by Frank Rehse 2026
DESCRIPTION:Auch in 2026 geht es auch wieder auf die 36 Loch-Challenge\, sponsored by Frank Rehse:\nErste Infos zum Ablauf: \n\n\n\nKanonenstart um 7:00 Uhr (Erst spielen dann bezahlen)\nPro Flight jeweils eine größere Pause\, die auf der Scorekarte gekennzeichnet ist. Die Pause sollte neben Verpflegung und Batteriewechsel/Ladung dafür genutzt werden\, dass Startgeld zu bezahlen und eventuelle Staus aufzulösen! (wer schneller spielt hat länger Pause!!!)\nVerpflegung steht ab ca. 10:15 Uhr\nGrundsätzlich können zwischen Loch 18/1 sowie 10/11 zusätzliche Stopps eingelegt werden (Batteriewechsel\, Getränke\, etc.)\nGetränkeversorgung vor\, während und nach dem Turnier\nBezahlung in der Pause möglich!\nDie Pausen sollten dazu genutzt werden\, die Flightabstände wieder zu optimieren!
URL:https://golfclub-repetal.de/termin/36-loch-challenge-by-frank-rehse-2026/
LOCATION:Golfclub Repetal – 18-Loch-Platz\, Repetalstraße 220\, Attendorn\, NRW\, 57439\, Germany
CATEGORIES:sonstiges
ATTACH;FMTTYPE=image/png:https://golfclub-repetal.de/wp-content/uploads/2026/04/Header_Event-Calender_840x320-6.png
END:VEVENT
BEGIN:VEVENT
DTSTART;TZID=Europe/Berlin:20260911T170000
DTEND;TZID=Europe/Berlin:20260911T190000
DTSTAMP:20260419T153126
CREATED:20260412T134711Z
LAST-MODIFIED:20260412T134711Z
UID:19924-1789146000-1789153200@golfclub-repetal.de
SUMMARY:Mercedes-Benz After Work Golf Cup
DESCRIPTION:Der Mercedes-Benz After Work Golf Cup ist Deutschlands größte 9-Loch-Turnierserie – speziell konzipiert für berufstätige Golferinnen und Golfer\, die die sportliche Herausforderung suchen\, aber nur selten Zeit für eine tagesfüllende Runde haben. Seit dem Einstieg von Mercedes-Benz als Titelpartner im Jahr 2012 hat sich das Format zu einer ständig wachsenden Gemeinschaft begeisterter Feierabend-Golfer entwickelt. \nDas Konzept ist denkbar einfach: Alle Turniere werden ausschließlich über neun Löcher gespielt\, nur wochentags ausgetragen und beginnen frühestens am Nachmittag (ab 17.00 Uhr) – also genau dann\, wenn der Arbeitstag endet und die Fahrbahn zur Runde ruft. \n  \nStartgeld: Mitglieder 10 Euro / Gäste 30 Euro (inkl. Greenfee) \nAnmeldung ausschließlich online über www.awgc.de oder die Campo Golf-App.
URL:https://golfclub-repetal.de/termin/mercedes-benz-after-work-golf-cup-10/
LOCATION:Golfclub Repetal – 18-Loch-Platz\, Repetalstraße 220\, Attendorn\, NRW\, 57439\, Germany
CATEGORIES:Afterwork
ATTACH;FMTTYPE=image/png:https://golfclub-repetal.de/wp-content/uploads/2026/04/2026-04_AWGC_840x320.png
END:VEVENT
BEGIN:VEVENT
DTSTART;TZID=Europe/Berlin:20260924T170000
DTEND;TZID=Europe/Berlin:20260924T190000
DTSTAMP:20260419T153126
CREATED:20260412T134743Z
LAST-MODIFIED:20260412T134743Z
UID:19927-1790269200-1790276400@golfclub-repetal.de
SUMMARY:Mercedes-Benz After Work Golf Cup
DESCRIPTION:Der Mercedes-Benz After Work Golf Cup ist Deutschlands größte 9-Loch-Turnierserie – speziell konzipiert für berufstätige Golferinnen und Golfer\, die die sportliche Herausforderung suchen\, aber nur selten Zeit für eine tagesfüllende Runde haben. Seit dem Einstieg von Mercedes-Benz als Titelpartner im Jahr 2012 hat sich das Format zu einer ständig wachsenden Gemeinschaft begeisterter Feierabend-Golfer entwickelt. \nDas Konzept ist denkbar einfach: Alle Turniere werden ausschließlich über neun Löcher gespielt\, nur wochentags ausgetragen und beginnen frühestens am Nachmittag (ab 17.00 Uhr) – also genau dann\, wenn der Arbeitstag endet und die Fahrbahn zur Runde ruft. \n  \nStartgeld: Mitglieder 10 Euro / Gäste 30 Euro (inkl. Greenfee) \nAnmeldung ausschließlich online über www.awgc.de oder die Campo Golf-App.
URL:https://golfclub-repetal.de/termin/mercedes-benz-after-work-golf-cup-11/
LOCATION:Golfclub Repetal – 18-Loch-Platz\, Repetalstraße 220\, Attendorn\, NRW\, 57439\, Germany
CATEGORIES:Afterwork
ATTACH;FMTTYPE=image/png:https://golfclub-repetal.de/wp-content/uploads/2026/04/2026-04_AWGC_840x320.png
END:VEVENT
END:VCALENDAR