BEGIN:VCALENDAR
VERSION:2.0
PRODID:-//Golfclub Repetal Südsauerland e.V. - ECPv6.15.20//NONSGML v1.0//EN
CALSCALE:GREGORIAN
METHOD:PUBLISH
X-ORIGINAL-URL:https://golfclub-repetal.de
X-WR-CALDESC:Veranstaltungen für Golfclub Repetal Südsauerland e.V.
REFRESH-INTERVAL;VALUE=DURATION:PT1H
X-Robots-Tag:noindex
X-PUBLISHED-TTL:PT1H
BEGIN:VTIMEZONE
TZID:Europe/Berlin
BEGIN:DAYLIGHT
TZOFFSETFROM:+0100
TZOFFSETTO:+0200
TZNAME:CEST
DTSTART:20250330T010000
END:DAYLIGHT
BEGIN:STANDARD
TZOFFSETFROM:+0200
TZOFFSETTO:+0100
TZNAME:CET
DTSTART:20251026T010000
END:STANDARD
BEGIN:DAYLIGHT
TZOFFSETFROM:+0100
TZOFFSETTO:+0200
TZNAME:CEST
DTSTART:20260329T010000
END:DAYLIGHT
BEGIN:STANDARD
TZOFFSETFROM:+0200
TZOFFSETTO:+0100
TZNAME:CET
DTSTART:20261025T010000
END:STANDARD
BEGIN:DAYLIGHT
TZOFFSETFROM:+0100
TZOFFSETTO:+0200
TZNAME:CEST
DTSTART:20270328T010000
END:DAYLIGHT
BEGIN:STANDARD
TZOFFSETFROM:+0200
TZOFFSETTO:+0100
TZNAME:CET
DTSTART:20271031T010000
END:STANDARD
END:VTIMEZONE
BEGIN:VEVENT
DTSTART;TZID=Europe/Berlin:20260905T070000
DTEND;TZID=Europe/Berlin:20260905T170000
DTSTAMP:20260419T182135
CREATED:20260412T155527Z
LAST-MODIFIED:20260412T155621Z
UID:20018-1788591600-1788627600@golfclub-repetal.de
SUMMARY:36 Loch-Challenge by Frank Rehse 2026
DESCRIPTION:Auch in 2026 geht es auch wieder auf die 36 Loch-Challenge\, sponsored by Frank Rehse:\nErste Infos zum Ablauf: \n\n\n\nKanonenstart um 7:00 Uhr (Erst spielen dann bezahlen)\nPro Flight jeweils eine größere Pause\, die auf der Scorekarte gekennzeichnet ist. Die Pause sollte neben Verpflegung und Batteriewechsel/Ladung dafür genutzt werden\, dass Startgeld zu bezahlen und eventuelle Staus aufzulösen! (wer schneller spielt hat länger Pause!!!)\nVerpflegung steht ab ca. 10:15 Uhr\nGrundsätzlich können zwischen Loch 18/1 sowie 10/11 zusätzliche Stopps eingelegt werden (Batteriewechsel\, Getränke\, etc.)\nGetränkeversorgung vor\, während und nach dem Turnier\nBezahlung in der Pause möglich!\nDie Pausen sollten dazu genutzt werden\, die Flightabstände wieder zu optimieren!
URL:https://golfclub-repetal.de/termin/36-loch-challenge-by-frank-rehse-2026/
LOCATION:Golfclub Repetal – 18-Loch-Platz\, Repetalstraße 220\, Attendorn\, NRW\, 57439\, Germany
CATEGORIES:sonstiges
ATTACH;FMTTYPE=image/png:https://golfclub-repetal.de/wp-content/uploads/2026/04/Header_Event-Calender_840x320-6.png
END:VEVENT
BEGIN:VEVENT
DTSTART;TZID=Europe/Berlin:20260913T110000
DTEND;TZID=Europe/Berlin:20260913T170000
DTSTAMP:20260419T182135
CREATED:20260412T145309Z
LAST-MODIFIED:20260412T145309Z
UID:19967-1789297200-1789318800@golfclub-repetal.de
SUMMARY:Repetal Trophy powered by BRUSE 2026 - FINALE
DESCRIPTION:Bereits zum 12. Mal veranstaltet der Golfclub Repetal mit seinem Sponsor\, der BRUSE GmbH & Co KG aus Attendorn\, in der Saison 2026 die Turnierserie “Repetal Trophy powered by BRUSE”. \nEs handelt sich um eine Turnierserie mit 5 Einzelspieltagen. Es wird in drei Klassen gespielt. \nBITTE BEACHTEN: Aufgrund der Erfahrungen aus den vergangenen Turnierjahren wird in folgenden Klassen gespielt \n\nKlasse A = Pro bis 16\,0\nKlasse B = 16\,1 bis 20\,0\nKlasse C = 20\,1 bis 54\n\nAusschlaggebend für die Klassenzugehörigkeit ist das Handicap am 1. Teilnahmetag des Spielers an der Repetal-Trophy. \nUm in die Serienendwertung zu kommen\, müssen mindestens 3 Turniere gespielt werden. \nDie 3 besten Netto-Stableford-Ergebnisse pro Spieler gehen in die Schlusswertung ein. Die Erstplatzierten der Jahreswertung der drei Klassen gewinnen am Ende der Trophy hochwertige Sachpreise. (Bei Gleichstand gewinnt der Spieler mit dem höheren Handicap.) \nAn den Einzelspieltagen erfolgt jeweils eine “kleine Siegerehrung”.
URL:https://golfclub-repetal.de/termin/repetal-trophy-2026-05/
LOCATION:Golfclub Repetal – 18-Loch-Platz\, Repetalstraße 220\, Attendorn\, NRW\, 57439\, Germany
CATEGORIES:Repetal Trophy
ATTACH;FMTTYPE=image/png:https://golfclub-repetal.de/wp-content/uploads/2026/04/Header_Event-Calender_840x320-3.png
END:VEVENT
END:VCALENDAR