BEGIN:VCALENDAR
VERSION:2.0
PRODID:-//Golfclub Repetal Südsauerland e.V. - ECPv6.15.20//NONSGML v1.0//EN
CALSCALE:GREGORIAN
METHOD:PUBLISH
X-WR-CALNAME:Golfclub Repetal Südsauerland e.V.
X-ORIGINAL-URL:https://golfclub-repetal.de
X-WR-CALDESC:Veranstaltungen für Golfclub Repetal Südsauerland e.V.
REFRESH-INTERVAL;VALUE=DURATION:PT1H
X-Robots-Tag:noindex
X-PUBLISHED-TTL:PT1H
BEGIN:VTIMEZONE
TZID:Europe/Berlin
BEGIN:DAYLIGHT
TZOFFSETFROM:+0100
TZOFFSETTO:+0200
TZNAME:CEST
DTSTART:20250330T010000
END:DAYLIGHT
BEGIN:STANDARD
TZOFFSETFROM:+0200
TZOFFSETTO:+0100
TZNAME:CET
DTSTART:20251026T010000
END:STANDARD
BEGIN:DAYLIGHT
TZOFFSETFROM:+0100
TZOFFSETTO:+0200
TZNAME:CEST
DTSTART:20260329T010000
END:DAYLIGHT
BEGIN:STANDARD
TZOFFSETFROM:+0200
TZOFFSETTO:+0100
TZNAME:CET
DTSTART:20261025T010000
END:STANDARD
BEGIN:DAYLIGHT
TZOFFSETFROM:+0100
TZOFFSETTO:+0200
TZNAME:CEST
DTSTART:20270328T010000
END:DAYLIGHT
BEGIN:STANDARD
TZOFFSETFROM:+0200
TZOFFSETTO:+0100
TZNAME:CET
DTSTART:20271031T010000
END:STANDARD
END:VTIMEZONE
BEGIN:VEVENT
DTSTART;VALUE=DATE:20260716
DTEND;VALUE=DATE:20260717
DTSTAMP:20260419T165750
CREATED:20260412T151018Z
LAST-MODIFIED:20260412T151018Z
UID:19981-1784160000-1784246399@golfclub-repetal.de
SUMMARY:Ligaspiel - Herren AK65 Heimspiel
DESCRIPTION:NRW 3.C – Gegner 2026: \n\nGolfclub Haan-Düsseltal (auswärts am 23.04.2026)\nGolfclub Mettmann (auswärts am 07.05.2026)\nGolfclub Essen-Heidhausen (auswärts am 21.05.2026)\nGolfclub Castrop Rauxel (auswärts am 11.06.2026)\nGolfclub Meerbusch (auswärts am 20.08.2026)\n\nHeimspiel. Bitte Platzsperren beachten.
URL:https://golfclub-repetal.de/termin/ligaspiel-2026_ak65/
LOCATION:Golfclub Repetal – 18-Loch-Platz\, Repetalstraße 220\, Attendorn\, NRW\, 57439\, Germany
CATEGORIES:Ligaspiel
ATTACH;FMTTYPE=image/png:https://golfclub-repetal.de/wp-content/uploads/2026/04/Header_Event-Calender_840x320-4.png
END:VEVENT
END:VCALENDAR